BEGIN:VCALENDAR
VERSION:2.0
PRODID:icalendar-ruby
CALSCALE:GREGORIAN
METHOD:PUBLISH
BEGIN:VEVENT
DTSTAMP:20260419T141340Z
UID:5-521776@aboundinggracecommunitychurch.com
DTSTART:20260419T140000Z
DTEND:20260419T150000Z
CLASS:PUBLIC
CREATED:20260419T084954
DESCRIPTION:Sunday Worship
LAST-MODIFIED:20260419T084954
LOCATION:
SUMMARY:Sunday Worship
URL;VALUE=URI:https://www.aboundinggracecommunitychurch.com/events/sunday-w
 orship/2026-04-19
END:VEVENT
END:VCALENDAR
