BEGIN:VCALENDAR
VERSION:2.0
PRODID:icalendar-ruby
CALSCALE:GREGORIAN
METHOD:PUBLISH
BEGIN:VEVENT
DTSTAMP:20260421T021201Z
UID:3-525857@aboundinggracecommunitychurch.com
DTSTART:20260920T190000Z
DTEND:20260920T203000Z
CLASS:PUBLIC
CREATED:20260420T205217
DESCRIPTION:Here is where you can inlcude the event information and descrip
 tion along with any registration information if needed.
LAST-MODIFIED:20260420T205217
LOCATION:
SUMMARY:Sunday Worship
URL;VALUE=URI:https://www.aboundinggracecommunitychurch.com/events/sunday-w
 orship--3/2026-09-20
ATTACH;FILENAME=View-recent-photos-3.jpeg;FMTTYPE=image/jpeg:https://dq5pwp
 g1q8ru0.cloudfront.net/2024/04/29/05/43/14/07118d3c-54f9-47f5-9d6f-ba85922
 2ff36/View-recent-photos-3.jpeg
END:VEVENT
END:VCALENDAR
